BEGIN:VCALENDAR
VERSION:2.0
PRODID:-//DEEJAY STAYCOOL OFFICIAL - ECPv6.15.20//NONSGML v1.0//EN
CALSCALE:GREGORIAN
METHOD:PUBLISH
X-ORIGINAL-URL:https://deejaystaycool.com
X-WR-CALDESC:Events for DEEJAY STAYCOOL OFFICIAL
REFRESH-INTERVAL;VALUE=DURATION:PT1H
X-Robots-Tag:noindex
X-PUBLISHED-TTL:PT1H
BEGIN:VTIMEZONE
TZID:America/Chicago
BEGIN:DAYLIGHT
TZOFFSETFROM:-0600
TZOFFSETTO:-0500
TZNAME:CDT
DTSTART:20230312T080000
END:DAYLIGHT
BEGIN:STANDARD
TZOFFSETFROM:-0500
TZOFFSETTO:-0600
TZNAME:CST
DTSTART:20231105T070000
END:STANDARD
BEGIN:DAYLIGHT
TZOFFSETFROM:-0600
TZOFFSETTO:-0500
TZNAME:CDT
DTSTART:20240310T080000
END:DAYLIGHT
BEGIN:STANDARD
TZOFFSETFROM:-0500
TZOFFSETTO:-0600
TZNAME:CST
DTSTART:20241103T070000
END:STANDARD
BEGIN:DAYLIGHT
TZOFFSETFROM:-0600
TZOFFSETTO:-0500
TZNAME:CDT
DTSTART:20250309T080000
END:DAYLIGHT
BEGIN:STANDARD
TZOFFSETFROM:-0500
TZOFFSETTO:-0600
TZNAME:CST
DTSTART:20251102T070000
END:STANDARD
BEGIN:DAYLIGHT
TZOFFSETFROM:-0600
TZOFFSETTO:-0500
TZNAME:CDT
DTSTART:20260308T080000
END:DAYLIGHT
BEGIN:STANDARD
TZOFFSETFROM:-0500
TZOFFSETTO:-0600
TZNAME:CST
DTSTART:20261101T070000
END:STANDARD
END:VTIMEZONE
BEGIN:VEVENT
DTSTART;TZID=America/Chicago:20251129T160000
DTEND;TZID=America/Chicago:20251130T020000
DTSTAMP:20260420T050345
CREATED:20251018T180659Z
LAST-MODIFIED:20251018T180702Z
UID:2759-1764432000-1764468000@deejaystaycool.com
SUMMARY:Christelle & Jacques
DESCRIPTION:🎉 Love in the air🎉 \n\n\n\ndeejaystaycool\n\n\n\n\n\n\n\nChristelle and Jacques joyfully celebrate the beautiful bond of love and commitment as they unite in marriage through a heartfelt traditional wedding ceremony.  \n\n\n\nSurrounded by family\, friends\, and cherished loved ones\, their union reflects the richness of cultural heritage and the deep connection they share.  \n\n\n\nThis special day marks not only the beginning of their journey as husband and wife but also a timeless celebration of love\, unity\, and tradition.
URL:https://deejaystaycool.com/event/christelle-jacques/
CATEGORIES:Diner Party,Wedding
ATTACH;FMTTYPE=image/jpeg:https://deejaystaycool.com/wp-content/uploads/2025/10/christelle-jacques-e1760810303948.jpg
END:VEVENT
BEGIN:VEVENT
DTSTART;TZID=America/Chicago:20250712T150000
DTEND;TZID=America/Chicago:20250712T230000
DTSTAMP:20260420T050345
CREATED:20250405T160208Z
LAST-MODIFIED:20250405T160210Z
UID:2449-1752332400-1752361200@deejaystaycool.com
SUMMARY:Rodrigue & Ingrid
DESCRIPTION:🎉 Love in the air🎉 \n\n\n\nWedding with Staycool\n\n\n\n \n\n\n\nLove is in the air and we can’t wait to celebrate with you! Join us as we begin our forever. Date:07/12/2025.
URL:https://deejaystaycool.com/event/rodrigue-ingrid/
LOCATION:Black Oak Mountain Vineyards
CATEGORIES:Wedding
ATTACH;FMTTYPE=image/png:https://deejaystaycool.com/wp-content/uploads/2025/04/Rod.png
END:VEVENT
BEGIN:VEVENT
DTSTART;TZID=America/Chicago:20250607T170000
DTEND;TZID=America/Chicago:20250607T230000
DTSTAMP:20260420T050345
CREATED:20250405T164812Z
LAST-MODIFIED:20250405T165335Z
UID:2456-1749315600-1749337200@deejaystaycool.com
SUMMARY:Sweet 16 : Princess Nzelle Lynne Ebah
DESCRIPTION:🎉 It’s a Royal Affair 🎉 \n\n\n\nPlease Join Princess Nzelle Lynne Ebah dance in to her Sweet 16. \n\n\n\n🕘 Doors Open at 5:00 PM! \n\n\n\nDress Code strictly enforced: \n\n\n\nGentlemen: Black tie \n\n\n\nLadies: Dress and Fascinator \n\n\n\nKid: Prince & Princess \n\n\n\n \n\n\n\nsweet 16
URL:https://deejaystaycool.com/event/sweet-16-princess-nzelle-lynne-ebah/
LOCATION:Arcadia Catering Center\, 7823 Parston Dr Unit K\, Forestville\, Maryland\, 20747\, United States
CATEGORIES:Birthday,Diner Party
ATTACH;FMTTYPE=image/jpeg:https://deejaystaycool.com/wp-content/uploads/2025/04/yvette-02.jpg
END:VEVENT
BEGIN:VEVENT
DTSTART;TZID=America/Chicago:20241101T220000
DTEND;TZID=America/Chicago:20241102T030000
DTSTAMP:20260420T050345
CREATED:20241030T113907Z
LAST-MODIFIED:20241030T210853Z
UID:2211-1730498400-1730516400@deejaystaycool.com
SUMMARY:the ultimate grown and sexy vibes Friday Night
DESCRIPTION:🎉 Get Ready for a Spooktacular Night! 🎉 \n\n\n\nJoin us every Friday at 10:00 PM for the ultimate grown and sexy vibes at @crossroads_two Lounge in Silver Spring! Don’t miss our Halloween Party this week—it will be a perfect time! \n\n\n\n🕘 Doors Open at 9:00 PM!📞 Table Reservations: Call 240-339-3276 \n\n\n\nDance the night away to the beats of the only *DEEJAY STAYCOOL @deejaystaycool **\, along with *NARCIS and MAMADI! Relive your favorite old-school jams with the fabulous DMV fly ladies!
URL:https://deejaystaycool.com/event/the-ultimate-grown-and-sexy-vibes-friday-night/
LOCATION:crossroads_two\, 11300 Fern St\, Wheaton\, Maryland\, United States
ATTACH;FMTTYPE=image/webp:https://deejaystaycool.com/wp-content/uploads/2024/10/2c36a454-1e99-4acb-a515-e89866daa36f.webp
END:VEVENT
BEGIN:VEVENT
DTSTART;TZID=America/Chicago:20240217T193000
DTEND;TZID=America/Chicago:20240218T000000
DTSTAMP:20260420T050345
CREATED:20240210T182048Z
LAST-MODIFIED:20240216T152045Z
UID:1363-1708198200-1708214400@deejaystaycool.com
SUMMARY:Valentine Party
DESCRIPTION:This is a private dinner party Event. \nMusic By Deejay StayCool
URL:https://deejaystaycool.com/event/private-social-event/
LOCATION:Yvette\, Woodfield Rd\, Gaithersburg MD\, MD\, United States
CATEGORIES:Diner Party
ATTACH;FMTTYPE=image/jpeg:https://deejaystaycool.com/wp-content/uploads/2024/02/Valentine-party.jpg
END:VEVENT
BEGIN:VEVENT
DTSTART;TZID=America/Chicago:20240127T170000
DTEND;TZID=America/Chicago:20240128T010000
DTSTAMP:20260420T050345
CREATED:20240122T133534Z
LAST-MODIFIED:20250829T160800Z
UID:1084-1706374800-1706403600@deejaystaycool.com
SUMMARY:Royal Birthday Celebration
DESCRIPTION: \nJoin us for an evening of laughter\, joy\, and memories as we celebrate King Julien Kamgang’s incredible milestone. \nThere will be music\, delicious food\, and great company. \nGet ready for an unforgettable evening filled with: \n✨ Sparkling Conversations: from 5 pm to 7 pm. Connect with friends old and new. \n🎤 Roaring Laughter: Comedy\, anecdotes\, and a trip down memory lane. \n🎁 Special Surprises: Gifts\, games\, and more! \n🌟 Dress to Impress: Glam up for a night of elegance all white \nMusic By Deejay Staycool\, DMV \nLet’s make memories that will last another 50 years! 🥳🎈
URL:https://deejaystaycool.com/event/royal-birthday-celebration/
LOCATION:Franciscan Event Center\, 6355 S Revere Pkwy\, Centennial CO\, 80111\, United States
CATEGORIES:Birthday
ATTACH;FMTTYPE=image/jpeg:https://deejaystaycool.com/wp-content/uploads/2024/01/Royal-celebration-1-e1705934625235.jpg
END:VEVENT
BEGIN:VEVENT
DTSTART;TZID=America/Chicago:20240120T150000
DTEND;TZID=America/Chicago:20240120T180000
DTSTAMP:20260420T050345
CREATED:20240120T102817Z
LAST-MODIFIED:20250405T133202Z
UID:992-1705762800-1705773600@deejaystaycool.com
SUMMARY:Book release
DESCRIPTION:CNM Media Entertainment is supporting CECECLIENT in the launch of their latest book. We handle all event-related aspects before\, during\, and after the event.
URL:https://deejaystaycool.com/event/book-release/
ATTACH;FMTTYPE=image/jpeg:https://deejaystaycool.com/wp-content/uploads/2024/01/Discovery-Brochure-scaled.jpg
END:VEVENT
END:VCALENDAR