BEGIN:VCALENDAR
VERSION:2.0
PRODID:-//DEEJAY STAYCOOL OFFICIAL - ECPv6.15.20//NONSGML v1.0//EN
CALSCALE:GREGORIAN
METHOD:PUBLISH
X-ORIGINAL-URL:https://deejaystaycool.com
X-WR-CALDESC:Events for DEEJAY STAYCOOL OFFICIAL
REFRESH-INTERVAL;VALUE=DURATION:PT1H
X-Robots-Tag:noindex
X-PUBLISHED-TTL:PT1H
BEGIN:VTIMEZONE
TZID:America/Chicago
BEGIN:DAYLIGHT
TZOFFSETFROM:-0600
TZOFFSETTO:-0500
TZNAME:CDT
DTSTART:20230312T080000
END:DAYLIGHT
BEGIN:STANDARD
TZOFFSETFROM:-0500
TZOFFSETTO:-0600
TZNAME:CST
DTSTART:20231105T070000
END:STANDARD
BEGIN:DAYLIGHT
TZOFFSETFROM:-0600
TZOFFSETTO:-0500
TZNAME:CDT
DTSTART:20240310T080000
END:DAYLIGHT
BEGIN:STANDARD
TZOFFSETFROM:-0500
TZOFFSETTO:-0600
TZNAME:CST
DTSTART:20241103T070000
END:STANDARD
BEGIN:DAYLIGHT
TZOFFSETFROM:-0600
TZOFFSETTO:-0500
TZNAME:CDT
DTSTART:20250309T080000
END:DAYLIGHT
BEGIN:STANDARD
TZOFFSETFROM:-0500
TZOFFSETTO:-0600
TZNAME:CST
DTSTART:20251102T070000
END:STANDARD
BEGIN:DAYLIGHT
TZOFFSETFROM:-0600
TZOFFSETTO:-0500
TZNAME:CDT
DTSTART:20260308T080000
END:DAYLIGHT
BEGIN:STANDARD
TZOFFSETFROM:-0500
TZOFFSETTO:-0600
TZNAME:CST
DTSTART:20261101T070000
END:STANDARD
END:VTIMEZONE
BEGIN:VEVENT
DTSTART;TZID=America/Chicago:20250607T170000
DTEND;TZID=America/Chicago:20250607T230000
DTSTAMP:20260424T075523
CREATED:20250405T164812Z
LAST-MODIFIED:20250405T165335Z
UID:2456-1749315600-1749337200@deejaystaycool.com
SUMMARY:Sweet 16 : Princess Nzelle Lynne Ebah
DESCRIPTION:🎉 It’s a Royal Affair 🎉 \n\n\n\nPlease Join Princess Nzelle Lynne Ebah dance in to her Sweet 16. \n\n\n\n🕘 Doors Open at 5:00 PM! \n\n\n\nDress Code strictly enforced: \n\n\n\nGentlemen: Black tie \n\n\n\nLadies: Dress and Fascinator \n\n\n\nKid: Prince & Princess \n\n\n\n \n\n\n\nsweet 16
URL:https://deejaystaycool.com/event/sweet-16-princess-nzelle-lynne-ebah/
LOCATION:Arcadia Catering Center\, 7823 Parston Dr Unit K\, Forestville\, Maryland\, 20747\, United States
CATEGORIES:Birthday,Diner Party
ATTACH;FMTTYPE=image/jpeg:https://deejaystaycool.com/wp-content/uploads/2025/04/yvette-02.jpg
END:VEVENT
BEGIN:VEVENT
DTSTART;TZID=America/Chicago:20240127T170000
DTEND;TZID=America/Chicago:20240128T010000
DTSTAMP:20260424T075523
CREATED:20240122T133534Z
LAST-MODIFIED:20250829T160800Z
UID:1084-1706374800-1706403600@deejaystaycool.com
SUMMARY:Royal Birthday Celebration
DESCRIPTION: \nJoin us for an evening of laughter\, joy\, and memories as we celebrate King Julien Kamgang’s incredible milestone. \nThere will be music\, delicious food\, and great company. \nGet ready for an unforgettable evening filled with: \n✨ Sparkling Conversations: from 5 pm to 7 pm. Connect with friends old and new. \n🎤 Roaring Laughter: Comedy\, anecdotes\, and a trip down memory lane. \n🎁 Special Surprises: Gifts\, games\, and more! \n🌟 Dress to Impress: Glam up for a night of elegance all white \nMusic By Deejay Staycool\, DMV \nLet’s make memories that will last another 50 years! 🥳🎈
URL:https://deejaystaycool.com/event/royal-birthday-celebration/
LOCATION:Franciscan Event Center\, 6355 S Revere Pkwy\, Centennial CO\, 80111\, United States
CATEGORIES:Birthday
ATTACH;FMTTYPE=image/jpeg:https://deejaystaycool.com/wp-content/uploads/2024/01/Royal-celebration-1-e1705934625235.jpg
END:VEVENT
END:VCALENDAR